BEGIN:VCALENDAR
VERSION:2.0
PRODID:-//E.Y. Centre - ECPv6.15.20//NONSGML v1.0//EN
CALSCALE:GREGORIAN
METHOD:PUBLISH
X-WR-CALNAME:E.Y. Centre
X-ORIGINAL-URL:https://eycentre.ca
X-WR-CALDESC:Events for E.Y. Centre
REFRESH-INTERVAL;VALUE=DURATION:PT1H
X-Robots-Tag:noindex
X-PUBLISHED-TTL:PT1H
BEGIN:VTIMEZONE
TZID:America/Toronto
BEGIN:DAYLIGHT
TZOFFSETFROM:-0500
TZOFFSETTO:-0400
TZNAME:EDT
DTSTART:20220313T070000
END:DAYLIGHT
BEGIN:STANDARD
TZOFFSETFROM:-0400
TZOFFSETTO:-0500
TZNAME:EST
DTSTART:20221106T060000
END:STANDARD
BEGIN:DAYLIGHT
TZOFFSETFROM:-0500
TZOFFSETTO:-0400
TZNAME:EDT
DTSTART:20230312T070000
END:DAYLIGHT
BEGIN:STANDARD
TZOFFSETFROM:-0400
TZOFFSETTO:-0500
TZNAME:EST
DTSTART:20231105T060000
END:STANDARD
BEGIN:DAYLIGHT
TZOFFSETFROM:-0500
TZOFFSETTO:-0400
TZNAME:EDT
DTSTART:20240310T070000
END:DAYLIGHT
BEGIN:STANDARD
TZOFFSETFROM:-0400
TZOFFSETTO:-0500
TZNAME:EST
DTSTART:20241103T060000
END:STANDARD
BEGIN:DAYLIGHT
TZOFFSETFROM:-0500
TZOFFSETTO:-0400
TZNAME:EDT
DTSTART:20250309T070000
END:DAYLIGHT
BEGIN:STANDARD
TZOFFSETFROM:-0400
TZOFFSETTO:-0500
TZNAME:EST
DTSTART:20251102T060000
END:STANDARD
BEGIN:DAYLIGHT
TZOFFSETFROM:-0500
TZOFFSETTO:-0400
TZNAME:EDT
DTSTART:20260308T070000
END:DAYLIGHT
BEGIN:STANDARD
TZOFFSETFROM:-0400
TZOFFSETTO:-0500
TZNAME:EST
DTSTART:20261101T060000
END:STANDARD
BEGIN:DAYLIGHT
TZOFFSETFROM:-0500
TZOFFSETTO:-0400
TZNAME:EDT
DTSTART:20270314T070000
END:DAYLIGHT
BEGIN:STANDARD
TZOFFSETFROM:-0400
TZOFFSETTO:-0500
TZNAME:EST
DTSTART:20271107T060000
END:STANDARD
END:VTIMEZONE
BEGIN:VEVENT
DTSTART;VALUE=DATE:20260227
DTEND;VALUE=DATE:20260302
DTSTAMP:20260425T192631
CREATED:20251118T201312Z
LAST-MODIFIED:20251118T201312Z
UID:10000297-1772150400-1772409599@eycentre.ca
SUMMARY:Ottawa RV Expo & Sale
DESCRIPTION:Showcasing the latest in Recreation Vehicle trends\, the Ottawa RV Expo and Sale features everything from luxury Class A motorhomes to fifth wheels\, travel trailers\, as well as the leisure gear and accessories that turn a journey into an adventure. \nDiverse outdoor enthusiasts are gravitating to the RV lifestyle. From weekend expeditions to cross country excursions\, record numbers of Canadian families are exploring the country in style. Active and adventurous\, they hit the road in search of great hiking\, canoeing\, kayaking\, biking\, fishing\, birdwatching and sightseeing experiences. \nIf you love the outdoors\, you won’t want to miss this show. \nThe Ottawa RV Expo and Sale is your chance to meet with Ottawa’s TOP RV dealers\, access learning opportunities hosted by industry experts\, and enter exciting contests and giveaways! The show has something for every family\, lifestyle\, and budget!  Sign up for our newsletter today to stay up to date on all the latest news. \nDate & Time\nFriday\, February 27 – 11:00am to 8:00pm\nSaturday\, February 28 – 10:00am to 7:00pm\nSunday\, March 1 – 11:00am to 5:00pm \nTickets\nGeneral Admission\n– Single Online: $15 (+ service fee)\n– Single Box Office: $19\n– Couple Online: $26 (+ service fee)\n– Couple Box Office: $31 \nSeniors Admission (65+)\n– Single Online: $13 (+ service fee)\n– Single Box Office: $15\n– Couple Online: $24 (+ service fee)\n– Couple Box Office: $26 \nSpecial – Friday & Saturday Only!\n– Single: $5 after 5pm (box office only) \nKids under 16: Free \nFind ticket details and purchase your tickets here. \nLocation\nEY Centre\nHalls 3 & 4\n4899 Uplands Drive\nOttawa\, ON \nParking\n$10/Day\n*No in-and-out privileges*
URL:https://eycentre.ca/event/ottawa-rv-expo-sale-4/
LOCATION:EY Centre\, 4899 Uplands Dr\, Ottawa\, Ontario\, K1V 2N6\, Canada
ATTACH;FMTTYPE=image/jpeg:https://eycentre.ca/wp-content/uploads/2025/11/Website-Event-Graphics-5-scaled.jpg
ORGANIZER;CN="Ontario Recreational Vehicle Dealers Association":MAILTO:info@ontariorvda.ca
END:VEVENT
BEGIN:VEVENT
DTSTART;VALUE=DATE:20240202
DTEND;VALUE=DATE:20240205
DTSTAMP:20260425T192631
CREATED:20231015T190118Z
LAST-MODIFIED:20240202T170029Z
UID:10000192-1706832000-1707091199@eycentre.ca
SUMMARY:Ottawa RV Show
DESCRIPTION:Showcasing the latest in Recreation Vehicle trends\, the Ottawa RV Expo and Sale features everything from luxury Class A motorhomes to fifth wheels\, travel trailers\, as well as the leisure gear and accessories that turn a journey into an adventure. \nAttracted by the outdoors\, millennials and multiculturals alike are gravitating to the RV lifestyle. From weekend expeditions to cross country excursions\, record numbers of Canadian families are exploring the country in style. Active and adventurous\, they hit the road in search of great hiking\, canoeing\, kayaking\, biking\, fishing\, birdwatching and sightseeing experiences. \nIf you love the outdoors\, you won’t want to miss this show. \nThe Ottawa RV Expo and Sale is your chance to meet with Ottawa’s TOP RV dealers\, access learning opportunities hosted by industry experts\, and enter exciting contests and giveaways! The show has something for every family\, lifestyle\, and budget!  Sign up for our newsletter today to stay up to date on all the latest news. \nTo purchase tickets and for more information\, please visit: https://rvshowsontario.ca/ottawa/ \nFebruary 2nd – 4th\, 2024\nFriday: 11am – 8pm\nSaturday 10am – 7pm\nSunday: 11am – 5pm \nLocation \nEY Centre \nHall 2 & 3 \n4899 Uplands Drive \nOttawa\, ON \nAdmission \n\n\nRegular (daily)\n$15 single online\,\n$18 single at box office\n$26 couple online\n$30 couples at box office\nSeniors\, 65+ (daily)\n$13 single\, $24 couple: online & box office\nKids under 16: FREE \nParking: FREE
URL:https://eycentre.ca/event/ottawa-rv-show/
LOCATION:EY Centre\, 4899 Uplands Dr\, Ottawa\, Ontario\, K1V 2N6\, Canada
ATTACH;FMTTYPE=image/jpeg:https://eycentre.ca/wp-content/uploads/2023/10/orvda-WEB-show-images23-243.jpg
ORGANIZER;CN="Ontario Recreational Vehicle Dealers Association":MAILTO:info@ontariorvda.ca
END:VEVENT
BEGIN:VEVENT
DTSTART;VALUE=DATE:20230203
DTEND;VALUE=DATE:20230206
DTSTAMP:20260425T192631
CREATED:20221228T191415Z
LAST-MODIFIED:20230216T145039Z
UID:10000079-1675382400-1675641599@eycentre.ca
SUMMARY:Ottawa RV Expo & Sale
DESCRIPTION:Showcasing a great selection of the latest RVs\, the Ottawa RV Expo and Sale features everything from $250\,000 luxury Class A motorhomes to camper vans\, travel trailers\, as well as the leisure gear and accessories that turn a journey into an adventure.\n \nFebruary 3rd-5th\, 2023 \n\nFriday: 11am-8pm\nSaturday: 10am-7pm\nSunday: 11am-5pm \n\n\nAdmission \nFriday Admission: $10\nWeekend Admission (Saturday or Sunday: $14.00)\nChildren 16 and Under: FREE \n\n\nLocation \nEY Centre\nHalls 2 & 3\n4899 Uplands Drive\nOttawa\, ON \nParking \n$10.00/Day\n*No in-and-out privileges*
URL:https://eycentre.ca/event/ottawa-rv-expo-sale-2/
LOCATION:EY Centre\, 4899 Uplands Dr\, Ottawa\, Ontario\, K1V 2N6\, Canada
CATEGORIES:Shopping & Retail
ATTACH;FMTTYPE=image/png:https://eycentre.ca/wp-content/uploads/2022/12/Website-Logo-Ottawa-RV-Expo-23.png
ORGANIZER;CN="Ontario Recreational Vehicle Dealers Association":MAILTO:info@ontariorvda.ca
END:VEVENT
END:VCALENDAR