BEGIN:VCALENDAR
VERSION:2.0
PRODID:-//E.Y. Centre - ECPv6.15.20//NONSGML v1.0//EN
CALSCALE:GREGORIAN
METHOD:PUBLISH
X-WR-CALNAME:E.Y. Centre
X-ORIGINAL-URL:https://eycentre.ca
X-WR-CALDESC:Events for E.Y. Centre
REFRESH-INTERVAL;VALUE=DURATION:PT1H
X-Robots-Tag:noindex
X-PUBLISHED-TTL:PT1H
BEGIN:VTIMEZONE
TZID:America/Toronto
BEGIN:DAYLIGHT
TZOFFSETFROM:-0500
TZOFFSETTO:-0400
TZNAME:EDT
DTSTART:20220313T070000
END:DAYLIGHT
BEGIN:STANDARD
TZOFFSETFROM:-0400
TZOFFSETTO:-0500
TZNAME:EST
DTSTART:20221106T060000
END:STANDARD
BEGIN:DAYLIGHT
TZOFFSETFROM:-0500
TZOFFSETTO:-0400
TZNAME:EDT
DTSTART:20230312T070000
END:DAYLIGHT
BEGIN:STANDARD
TZOFFSETFROM:-0400
TZOFFSETTO:-0500
TZNAME:EST
DTSTART:20231105T060000
END:STANDARD
BEGIN:DAYLIGHT
TZOFFSETFROM:-0500
TZOFFSETTO:-0400
TZNAME:EDT
DTSTART:20240310T070000
END:DAYLIGHT
BEGIN:STANDARD
TZOFFSETFROM:-0400
TZOFFSETTO:-0500
TZNAME:EST
DTSTART:20241103T060000
END:STANDARD
END:VTIMEZONE
BEGIN:VEVENT
DTSTART;VALUE=DATE:20230513
DTEND;VALUE=DATE:20230514
DTSTAMP:20260422T220729
CREATED:20230329T134907Z
LAST-MODIFIED:20230511T172241Z
UID:10000086-1683936000-1684022399@eycentre.ca
SUMMARY:Somali Hope Foundation Gala
DESCRIPTION:Please join us on at the EY Centre for an evening of celebration\, entertainment and delicious Somali cuisine. \nThe annual Somali Hope Foundation Gala is “live and in-person” this year\, featuring a tremendous program for the more than 300 supporters in attendance. \nThe Gala is a very popular event with the Ottawa Somali community and its supporters. It is an opportunity for everyone to have a terrific evening while raising funds for a worthy cause – providing free\, high quality and equitable education to girls and boys in rural Somalia. \nThe Somali Hope Foundation is happy to share that Sabrina Dhowre Elba is the Keynote Speaker for this year’s Gala! In 2022\, Sabrina visited Hope Academy in Bursalah\, Somalia and saw first-hand the important and impressive work being done at our schools. She is a UN Goodwill Ambassador for IFAD\, philanthropist\, activist\, actress and model. \nSaturday\, May 13th\, 2023 \n6:00pm-10:00pm \nLocation \nEY Centre\nMeeting Rooms A\, B\, C & D\n4899 Uplands Drive\nOttawa\, ON \nTickets \nTickets are SOLD OUT! Click here for up to date ticket information.
URL:https://eycentre.ca/event/somali-hope-foundation-gala/
LOCATION:EY Centre\, 4899 Uplands Dr\, Ottawa\, Ontario\, K1V 2N6\, Canada
CATEGORIES:Fundraising Event
ATTACH;FMTTYPE=image/png:https://eycentre.ca/wp-content/uploads/2023/03/EY-Website-Logo-3.png
ORGANIZER;CN="Somali Hope Foundation":MAILTO:somalihopeacademy4@gmail.com
END:VEVENT
END:VCALENDAR