BEGIN:VCALENDAR
VERSION:2.0
PRODID:-//E.Y. Centre - ECPv6.15.20//NONSGML v1.0//EN
CALSCALE:GREGORIAN
METHOD:PUBLISH
X-WR-CALNAME:E.Y. Centre
X-ORIGINAL-URL:https://eycentre.ca
X-WR-CALDESC:Events for E.Y. Centre
REFRESH-INTERVAL;VALUE=DURATION:PT1H
X-Robots-Tag:noindex
X-PUBLISHED-TTL:PT1H
BEGIN:VTIMEZONE
TZID:America/Toronto
BEGIN:DAYLIGHT
TZOFFSETFROM:-0500
TZOFFSETTO:-0400
TZNAME:EDT
DTSTART:20220313T070000
END:DAYLIGHT
BEGIN:STANDARD
TZOFFSETFROM:-0400
TZOFFSETTO:-0500
TZNAME:EST
DTSTART:20221106T060000
END:STANDARD
BEGIN:DAYLIGHT
TZOFFSETFROM:-0500
TZOFFSETTO:-0400
TZNAME:EDT
DTSTART:20230312T070000
END:DAYLIGHT
BEGIN:STANDARD
TZOFFSETFROM:-0400
TZOFFSETTO:-0500
TZNAME:EST
DTSTART:20231105T060000
END:STANDARD
BEGIN:DAYLIGHT
TZOFFSETFROM:-0500
TZOFFSETTO:-0400
TZNAME:EDT
DTSTART:20240310T070000
END:DAYLIGHT
BEGIN:STANDARD
TZOFFSETFROM:-0400
TZOFFSETTO:-0500
TZNAME:EST
DTSTART:20241103T060000
END:STANDARD
END:VTIMEZONE
BEGIN:VEVENT
DTSTART;VALUE=DATE:20230826
DTEND;VALUE=DATE:20230827
DTSTAMP:20260422T200840
CREATED:20230626T160018Z
LAST-MODIFIED:20230822T185018Z
UID:10000094-1693008000-1693094399@eycentre.ca
SUMMARY:Driven Aftermarket Car Show
DESCRIPTION:Featuring over 300 vehicles and displays! We’re taking up 100K square feet of show space with vehicles visiting Ottawa from across Canada – don’t miss the action! \nAugust 26th\, 2023 \nSaturday – 1:00pm-7:00pm \nLocation \nEY Centre \nHall 2 & 3 \n4899 Uplands Drive \nOttawa\, ON \nAdmission \nGeneral Admission $25 \nChildren 5-11/Seniors 65+ $10 \nParking $10
URL:https://eycentre.ca/event/driven-aftermarket-car-show/
CATEGORIES:Sporting Event,Trade Show
ATTACH;FMTTYPE=image/jpeg:https://eycentre.ca/wp-content/uploads/2023/06/driven-car-show.jpg
END:VEVENT
BEGIN:VEVENT
DTSTART;VALUE=DATE:20230512
DTEND;VALUE=DATE:20230514
DTSTAMP:20260422T200840
CREATED:20230329T133154Z
LAST-MODIFIED:20230502T153340Z
UID:10000085-1683849600-1684022399@eycentre.ca
SUMMARY:Starpower International Dance Competition
DESCRIPTION:Starpower is celebrating over 30 years in the in the world of dance competitions and is stronger than ever. Starpower continues to use its innovative Star Scoring Program with three levels of competition. Starpower is constantly adding new awards\, scholarships\, and performance opportunities for every dancer. \nWith the friendliest and most professional staff in the industry\, you are sure to have the greatest experience attending any Starpower competition around the world. The Starpower family could not be more excited to offer another year of enthusiasm\, energy\, and professionalism! Starpower thrives on its relationships and support from studio directors\, teachers\, performers\, and parents over the past three decades. We want to express our deepest thanks to all of you who have helped to make us number one in the industry! \nGood luck to all of our contestants and remember… YOU’RE ALWAYS A STAR AT STARPOWER! \nMay 12th – 13th\, 2023 \nFriday: 5:00pm-10:00pm \nSaturday: 8:00am-11:00pm \nLocation \nEY Centre\nHall 4\n4899 Uplands Drive\nOttawa\, ON \nParking \n$10.00/Day\n*No in-and-out privileges*
URL:https://eycentre.ca/event/starpower-international/
LOCATION:EY Centre\, 4899 Uplands Dr\, Ottawa\, Ontario\, K1V 2N6\, Canada
CATEGORIES:Sporting Event
ATTACH;FMTTYPE=image/png:https://eycentre.ca/wp-content/uploads/2023/03/Website-Logo-Starpower-Dance-Competition-23.png
ORGANIZER;CN="Starpower International":MAILTO:daniella@starpowertalent.com
END:VEVENT
BEGIN:VEVENT
DTSTART;VALUE=DATE:20230506
DTEND;VALUE=DATE:20230508
DTSTAMP:20260422T200840
CREATED:20230329T132302Z
LAST-MODIFIED:20230501T135353Z
UID:10000164-1683331200-1683503999@eycentre.ca
SUMMARY:Canadian Cheer National Championships
DESCRIPTION:Canadian Cheer – School National Championships is a Premier Experience Event \n\nOur largest school specific event in Canada!\nFull Competition Arenas\nSprung floors in the practice gym plus mats and spring strips\nSignature awards ceremony\nFull lights\, big sound and production value\nMultiple participant gifts for each Athlete\nPrizing for National Champions in each division & Special excellence awards\n\nMay 6th-7th\, 2023 \nSaturday\, May 6th\, 2023 – 9:30am-5:30pm\nSunday\, May 7th\, 2023 – 9:00am-5:30pm \nLocation \nEY Centre\nHalls 2 & 3\n4899 Uplands Drive\nOttawa\, ON \nSpectator Tickets \n1 Day Pass – Adults (13+): $22.50\n1 Day Pass – Senior/Child (6-12yrs): $18\n2 Day Pass – Adults: $40\n2 Day Pass – Senioer/Child (6-12yrs): $32\nChildren 5 and Under: FREE \n**FREE Parking**
URL:https://eycentre.ca/event/canadian-cheer-national-championships/
LOCATION:EY Centre\, 4899 Uplands Dr\, Ottawa\, Ontario\, K1V 2N6\, Canada
CATEGORIES:Sporting Event
ATTACH;FMTTYPE=image/png:https://eycentre.ca/wp-content/uploads/2023/03/Website-Logo-National-Cheer-Championships-23.png
END:VEVENT
BEGIN:VEVENT
DTSTART;VALUE=DATE:20230413
DTEND;VALUE=DATE:20230417
DTSTAMP:20260422T200840
CREATED:20230317T191854Z
LAST-MODIFIED:20230412T184703Z
UID:10000167-1681344000-1681689599@eycentre.ca
SUMMARY:Be Dance Competition
DESCRIPTION:April 13th-16th\, 2023 \nThursday\, April 13th: 8am – 9:45pm\nFriday\, April 14th: 8am – 9:45pm\nSaturday\, April 15th: 8am – 10pm\nSunday\, April 16th: 8am – 10pm \nLocation \nEY Centre\nHall 1\n4899 Uplands Drive\nOttawa\, ON \nParking \n$10.00/Day\n*No in-and-out privileges*
URL:https://eycentre.ca/event/be-dance-competition-2/
LOCATION:EY Centre\, 4899 Uplands Dr\, Ottawa\, Ontario\, K1V 2N6\, Canada
CATEGORIES:Sporting Event
ATTACH;FMTTYPE=image/png:https://eycentre.ca/wp-content/uploads/2023/03/Website-Logo-Be-Dance-23.png
END:VEVENT
END:VCALENDAR